Workbook

Sheet титульный лист
B3: Дұрыс жауаптары: | E3: =SUM('обработка результатов'!D2:D13) -> 0
B7: Баға: | E7: =IF(E3>=10,"5(өте жақсы)",IF(E3>=7,"4(жақсы)",IF(E3>=5,"3(қанағаттанарлық)",2))) -> 2

Sheet кроссворд
U2: дұрыс жауабы: | Z2: =SUM('обработка результатов'!D2:D13) -> 0
U4: Баға: | Y4: =IF(Z2>=10,"5(өте жақсы)",IF(Z2>=7,"4(жақсы)",IF(Z2>=5,"3(қанағаттанарлық)",2))) -> 2
M10: Көлденеңінен:
L11: 1 | M11: Paint – ті іске қосқанда, Пуск – тан кейін қандай тізбек орындалады?
L12: 2 | M12: Компьютерге ақпарат енгізуге арналған құрылғы?
L13: 3 | M13: Ақпаратты қағазға басып шығаратын құрылғыны қалай атаймыз?
L14: 4 | M14: Компьютерге мәтінді немесе бейнені енгізу құрылғыны қалай атаймыз?
L15: 5 | M15: Адам мен компьютер арасындағы қарым – қатынасты қалай атаймыз?
L16: 6 | M16: Ақпарат сөзі қай тілден шыққан?
L17: 7 | M17: . Қарапайым есептеулер жүргізетін бағдарлама
M18: Тігінен
L19: 1 | M19: Компьютердің атасы?
L20: 2 | M20: белгілі бір мақсатқа жету жолы
L21: 3 | M21: Дыбыс шығаратын құрылғы?
L22: 4 | M22: Дауыс жазуға арналған құрылғы?

Sheet обработка результатов
A1: көлденеңінен
A2: 1 | B2: программы | C2: =CONCATENATE(кроссворд!E2,кроссворд!F2,кроссворд!G2,кроссворд!H2,кроссворд!I2,кроссворд!J2,кроссворд!K2,кроссворд!L2,кроссворд!M2) | D2: =IF(B2=C2,1,0) -> 0
A3: 2 | B3: пернетақта | C3: =CONCATENATE(кроссворд!C3,кроссворд!D3,кроссворд!E3,кроссворд!F3,кроссворд!G3,кроссворд!H3,кроссворд!I3,кроссворд!J3,кроссворд!K3,кроссворд!L3) | D3: =IF(B3=C3,1,0) -> 0
A4: 3 | B4: принтер | C4: =CONCATENATE(кроссворд!J4,кроссворд!K4,кроссворд!L4,кроссворд!M4,кроссворд!N4,кроссворд!O4,кроссворд!P4) | D4: =IF(B4=C4,1,0) -> 0
A5: 4 | B5: сканер | C5: =CONCATENATE(кроссворд!H5,кроссворд!I5,кроссворд!J5,кроссворд!K5,кроссворд!L5,кроссворд!M5) | D5: =IF(B5=C5,1,0) -> 0
A6: 5 | B6: интерфейс | C6: =CONCATENATE(кроссворд!F6,кроссворд!G6,кроссворд!H6,кроссворд!I6,кроссворд!J6,кроссворд!K6,кроссворд!L6,кроссворд!M6,кроссворд!N6) | D6: =IF(B6=C6,1,0) -> 0
A7: 6 | B7: латын | C7: =CONCATENATE(кроссворд!I7,кроссворд!J7,кроссворд!K7,кроссворд!L7,кроссворд!M7) | D7: =IF(B7=C7,1,0) -> 0
A8: 7 | B8: калькулятор | C8: =CONCATENATE(кроссворд!B8,кроссворд!C8,кроссворд!D8,кроссворд!E8,кроссворд!F8,кроссворд!G8,кроссворд!H8,кроссворд!I8,кроссворд!J8,кроссворд!K8,кроссворд!L8) | D8: =IF(B8=C8,1,0) -> 0
A9: тігінен
A10: 1 | B10: ЧарльзБэббидж | C10: =CONCATENATE(кроссворд!C7,кроссворд!C8,кроссворд!C9,кроссворд!C10,кроссворд!C11,кроссворд!C12,кроссворд!C13,кроссворд!C14,кроссворд!C15,кроссворд!C16,кроссворд!C17,кроссворд!C18,кроссворд!C19) | D10: =IF(B10=C10,1,0) -> 0
A11: 2 | B11: алгоритм | C11: =CONCATENATE(кроссворд!D7,кроссворд!D8,кроссворд!D9,кроссворд!D10,кроссворд!D11,кроссворд!D12,кроссворд!D13,кроссворд!D14) | D11: =IF(B11=C11,1,0) -> 0
A12: 3 | B12: колонка | C12: =CONCATENATE(кроссворд!F8,кроссворд!F9,кроссворд!F10,кроссворд!F11,кроссворд!F12,кроссворд!F13,кроссворд!F14) | D12: =IF(B12=C12,1,0) -> 0
A13: 4 | B13: микрофон | C13: =CONCATENATE(кроссворд!P1,кроссворд!P2,кроссворд!P3,кроссворд!P4,кроссворд!P5,кроссворд!P6,кроссворд!P7,кроссворд!P8) | D13: =IF(B13=C13,1,0) -> 0
